BEGIN:VCALENDAR
VERSION:2.0
PRODID:-//Glentanna - ECPv6.2.2//NONSGML v1.0//EN
CALSCALE:GREGORIAN
METHOD:PUBLISH
X-WR-CALNAME:Glentanna
X-ORIGINAL-URL:https://glentanna.com.au
X-WR-CALDESC:Events for Glentanna
REFRESH-INTERVAL;VALUE=DURATION:PT1H
X-Robots-Tag:noindex
X-PUBLISHED-TTL:PT1H
BEGIN:VTIMEZONE
TZID:Australia/Melbourne
BEGIN:STANDARD
TZOFFSETFROM:+1100
TZOFFSETTO:+1000
TZNAME:AEST
DTSTART:20240406T160000
END:STANDARD
BEGIN:DAYLIGHT
TZOFFSETFROM:+1000
TZOFFSETTO:+1100
TZNAME:AEDT
DTSTART:20241005T160000
END:DAYLIGHT
END:VTIMEZONE
BEGIN:VEVENT
DTSTART;TZID=Australia/Melbourne:20241011T103000
DTEND;TZID=Australia/Melbourne:20241011T120000
DTSTAMP:20260423T182642
CREATED:20240827T112754Z
LAST-MODIFIED:20240827T113928Z
UID:1197-1728642600-1728648000@glentanna.com.au
SUMMARY:Annual Ram Sale 2024
DESCRIPTION:Sale starts at 10:30am Inspections welcom from 9:30 am. \nMorning tea and refreshments provided \nview our catalogue on sheepgenetics via the link.
URL:https://glentanna.com.au/ram-sale/annual-ram-sale-2024/
LOCATION:Victoria
CATEGORIES:Next Ram Sale
ATTACH;FMTTYPE=image/jpeg:https://glentanna.com.au/wp-content/uploads/2023/08/Sale-Day-Photo-e1691038759136.jpg
END:VEVENT
END:VCALENDAR