BEGIN:VCALENDAR
VERSION:2.0
PRODID:-//Glentanna - ECPv6.2.2//NONSGML v1.0//EN
CALSCALE:GREGORIAN
METHOD:PUBLISH
X-WR-CALNAME:Glentanna
X-ORIGINAL-URL:https://glentanna.com.au
X-WR-CALDESC:Events for Glentanna
REFRESH-INTERVAL;VALUE=DURATION:PT1H
X-Robots-Tag:noindex
X-PUBLISHED-TTL:PT1H
BEGIN:VTIMEZONE
TZID:Australia/Melbourne
BEGIN:STANDARD
TZOFFSETFROM:+1100
TZOFFSETTO:+1000
TZNAME:AEST
DTSTART:20230401T160000
END:STANDARD
BEGIN:DAYLIGHT
TZOFFSETFROM:+1000
TZOFFSETTO:+1100
TZNAME:AEDT
DTSTART:20230930T160000
END:DAYLIGHT
END:VTIMEZONE
BEGIN:VEVENT
DTSTART;TZID=Australia/Melbourne:20231013T103000
DTEND;TZID=Australia/Melbourne:20231013T140000
DTSTAMP:20260424T134157
CREATED:20221210T005257Z
LAST-MODIFIED:20231003T210342Z
UID:890-1697193000-1697205600@glentanna.com.au
SUMMARY:2023 Ram Sale
DESCRIPTION:78 White Suffolk Rams  will go under the hammer on Friday 13th October\, 10:30am start – Inspections from 9:30am\nTop genetics from within the industry are available in this lot of Rams on offer.\nThese include Waratah\, Ashmore\, Ella Matta\, Felix\, Somerset and Detpa Grove.\nThis years On Property Ram Sale will be an Open Outcry Auction instead of the Helmsman system.\nFor more information or to arrange inspection prior to sale day call Adam 0466013915.\n Click here for Catalogue\n 
URL:https://glentanna.com.au/ram-sale/2023-ram-sale/
LOCATION:Glentanna\, 140 Four Mile Road\, Caramut\, Victoria\, 3274\, Australia
CATEGORIES:Next Ram Sale
ATTACH;FMTTYPE=image/jpeg:https://glentanna.com.au/wp-content/uploads/2023/08/Sale-Day-Photo-e1691038759136.jpg
ORGANIZER;CN="Adam Lehmann":MAILTO:info@glentanna.com.au
END:VEVENT
END:VCALENDAR